BEGIN:VCALENDAR
VERSION:2.0
PRODID:-//Innovation - ECPv6.15.20//NONSGML v1.0//EN
CALSCALE:GREGORIAN
METHOD:PUBLISH
X-WR-CALNAME:Innovation
X-ORIGINAL-URL:https://ourdorset.org.uk/innovation
X-WR-CALDESC:Events for Innovation
REFRESH-INTERVAL;VALUE=DURATION:PT1H
X-Robots-Tag:noindex
X-PUBLISHED-TTL:PT1H
BEGIN:VTIMEZONE
TZID:Europe/London
BEGIN:DAYLIGHT
TZOFFSETFROM:+0000
TZOFFSETTO:+0100
TZNAME:BST
DTSTART:20250330T010000
END:DAYLIGHT
BEGIN:STANDARD
TZOFFSETFROM:+0100
TZOFFSETTO:+0000
TZNAME:GMT
DTSTART:20251026T010000
END:STANDARD
BEGIN:DAYLIGHT
TZOFFSETFROM:+0000
TZOFFSETTO:+0100
TZNAME:BST
DTSTART:20260329T010000
END:DAYLIGHT
BEGIN:STANDARD
TZOFFSETFROM:+0100
TZOFFSETTO:+0000
TZNAME:GMT
DTSTART:20261025T010000
END:STANDARD
BEGIN:DAYLIGHT
TZOFFSETFROM:+0000
TZOFFSETTO:+0100
TZNAME:BST
DTSTART:20270328T010000
END:DAYLIGHT
BEGIN:STANDARD
TZOFFSETFROM:+0100
TZOFFSETTO:+0000
TZNAME:GMT
DTSTART:20271031T010000
END:STANDARD
END:VTIMEZONE
BEGIN:VEVENT
DTSTART;TZID=Europe/London:20260520T130000
DTEND;TZID=Europe/London:20260520T140000
DTSTAMP:20260424T172305
CREATED:20260306T154006Z
LAST-MODIFIED:20260306T154110Z
UID:6977-1779282000-1779285600@ourdorset.org.uk
SUMMARY:Getting Bid Ready
DESCRIPTION:How can we ensure that we are in the best position possible for funding bids with tight deadlines? \nJoin this community of practice event to find out more about; \n\nUnderstanding funder requirements\nKey generic supporting documentation incl. checklist\nHow we explore potential opportunities\n\nWith opportunities for discussions and questions\, and links for tools and resources. \nWednesday 20 May 2026: 13:00 to 14:00 \nThis 1-hour online event is free and open to all to attend. \nClick here to book your place. \n06/03/2026
URL:https://ourdorset.org.uk/innovation/event/getting-bid-ready/
LOCATION:Teams
ATTACH;FMTTYPE=image/jpeg:https://ourdorset.org.uk/innovation/wp-content/uploads/sites/2/2026/03/CoP-May-2026-Image.jpg
END:VEVENT
BEGIN:VEVENT
DTSTART;TZID=Europe/London:20260701T100000
DTEND;TZID=Europe/London:20260701T163000
DTSTAMP:20260424T172305
CREATED:20250811T140307Z
LAST-MODIFIED:20260223T085944Z
UID:6547-1782900000-1782923400@ourdorset.org.uk
SUMMARY:Fundamentals of Innovation Adoption Training: July 2026
DESCRIPTION:Join the Dorset Innovation Hub to further understand the challenges of innovation adoption\, develop skills and build knowledge to be better equipped to successfully adopt innovations into your practice. \nDuring this free 1-day interactive training you will: \n\nExplore the definition of innovation and the challenges of innovation adoption\nLearn about the key steps when taking forwards an innovation project\nDevelop skills in using supportive frameworks and tools\nUse a case study example to test application of learning in a linear journey through the day\n\nThis training take place on Wednesday 01 July 2026 (10:00 to 16:30) at County Hall in Dorchester (DT1 1XJ). \nThis training is open to all but training will be in a Dorset context. \nTo book a place\, complete a copy of our booking form. \n23 02 2026
URL:https://ourdorset.org.uk/innovation/event/fundamentals-of-innovation-adoption-training-july-2026/
LOCATION:County Hall\, Dorchester\, DT1 1XJ\, County Hall\, Dorchester\, Dorset\, DT1 1XJ\, United Kingdom
ATTACH;FMTTYPE=image/jpeg:https://ourdorset.org.uk/innovation/wp-content/uploads/sites/2/2023/12/tree-402953_1280.jpg
END:VEVENT
BEGIN:VEVENT
DTSTART;TZID=Europe/London:20260709T130000
DTEND;TZID=Europe/London:20260709T140000
DTSTAMP:20260424T172305
CREATED:20260116T165407Z
LAST-MODIFIED:20260123T152341Z
UID:6910-1783602000-1783605600@ourdorset.org.uk
SUMMARY:Visualising Innovation: Creating impactful posters
DESCRIPTION:How can we better understand how to visualise innovation by maximising impact through posters? \nJoin this community of practice event to find out more about; \n\nDeveloping posters to showcase your work\nConsider what makes a good poster\nAvoiding key mistakes\nCreating a compelling poster that highlights the impact of innovation\n\nWith opportunities for discussions and questions\, and links for tools and resources. \nThursday 09 July 2026: 13:00 to 14:00 \nThis 1-hour online event is free and open to all to attend. \nClick here to book your place. \n16/01/2026
URL:https://ourdorset.org.uk/innovation/event/visualising-innovation-creating-impactful-posters/
LOCATION:Teams
ATTACH;FMTTYPE=image/jpeg:https://ourdorset.org.uk/innovation/wp-content/uploads/sites/2/2026/01/Cop-visualising-innovation-Dec-2023.jpg
END:VEVENT
BEGIN:VEVENT
DTSTART;TZID=Europe/London:20261021T100000
DTEND;TZID=Europe/London:20261021T163000
DTSTAMP:20260424T172305
CREATED:20250811T140937Z
LAST-MODIFIED:20250811T141159Z
UID:6554-1792576800-1792600200@ourdorset.org.uk
SUMMARY:Fundamentals of Innovation Adoption Training: October 2026
DESCRIPTION:Join the Dorset Innovation Hub to further understand the challenges of innovation adoption\, develop skills and build knowledge to be better equipped to successfully adopt innovations into your practice. \nDuring this free 1-day interactive training you will: \n\nExplore the definition of innovation and the challenges of innovation adoption\nLearn about the key steps when taking forwards an innovation project\nDevelop skills in using supportive frameworks and tools\nUse a case study example to test application of learning in a linear journey through the day\n\nThis training take place on Wednesday 21 October 2026 (10:00 to 16:30) at Health Sciences University in Bournemouth (BH5 2DF). \nThis training is open to all but training will be in a Dorset context. \nTo book a place\, complete a copy of our booking form. \n11/08/2025
URL:https://ourdorset.org.uk/innovation/event/fundamentals-of-innovation-adoption-training-october-2026/
LOCATION:Health Sciences University (AECC UC)\, Parkwood Road\, Bournemouth\, Dorset\, BH5 2DF\, United Kingdom
ATTACH;FMTTYPE=image/jpeg:https://ourdorset.org.uk/innovation/wp-content/uploads/sites/2/2023/12/tree-402953_1280.jpg
END:VEVENT
END:VCALENDAR